BEGIN:VCALENDAR
VERSION:2.0
PRODID:-//Hints with Canwell Parish Council - ECPv6.15.18//NONSGML v1.0//EN
CALSCALE:GREGORIAN
METHOD:PUBLISH
X-WR-CALNAME:Hints with Canwell Parish Council
X-ORIGINAL-URL:https://hintswithcanwellparishcouncil.gov.uk
X-WR-CALDESC:Events for Hints with Canwell Parish Council
REFRESH-INTERVAL;VALUE=DURATION:PT1H
X-Robots-Tag:noindex
X-PUBLISHED-TTL:PT1H
BEGIN:VTIMEZONE
TZID:Europe/London
BEGIN:DAYLIGHT
TZOFFSETFROM:+0000
TZOFFSETTO:+0100
TZNAME:BST
DTSTART:20230326T010000
END:DAYLIGHT
BEGIN:STANDARD
TZOFFSETFROM:+0100
TZOFFSETTO:+0000
TZNAME:GMT
DTSTART:20231029T010000
END:STANDARD
BEGIN:DAYLIGHT
TZOFFSETFROM:+0000
TZOFFSETTO:+0100
TZNAME:BST
DTSTART:20240331T010000
END:DAYLIGHT
BEGIN:STANDARD
TZOFFSETFROM:+0100
TZOFFSETTO:+0000
TZNAME:GMT
DTSTART:20241027T010000
END:STANDARD
BEGIN:DAYLIGHT
TZOFFSETFROM:+0000
TZOFFSETTO:+0100
TZNAME:BST
DTSTART:20250330T010000
END:DAYLIGHT
BEGIN:STANDARD
TZOFFSETFROM:+0100
TZOFFSETTO:+0000
TZNAME:GMT
DTSTART:20251026T010000
END:STANDARD
BEGIN:DAYLIGHT
TZOFFSETFROM:+0000
TZOFFSETTO:+0100
TZNAME:BST
DTSTART:20260329T010000
END:DAYLIGHT
BEGIN:STANDARD
TZOFFSETFROM:+0100
TZOFFSETTO:+0000
TZNAME:GMT
DTSTART:20261025T010000
END:STANDARD
BEGIN:DAYLIGHT
TZOFFSETFROM:+0000
TZOFFSETTO:+0100
TZNAME:BST
DTSTART:20270328T010000
END:DAYLIGHT
BEGIN:STANDARD
TZOFFSETFROM:+0100
TZOFFSETTO:+0000
TZNAME:GMT
DTSTART:20271031T010000
END:STANDARD
END:VTIMEZONE
BEGIN:VEVENT
DTSTART;TZID=Europe/London:20260317T190000
DTEND;TZID=Europe/London:20260317T190000
DTSTAMP:20260415T223712
CREATED:20250712T081311Z
LAST-MODIFIED:20260404T103849Z
UID:1091-1773774000-1773774000@hintswithcanwellparishcouncil.gov.uk
SUMMARY:Parish Council Meeting
DESCRIPTION:This meeting will be held at Hints Village Hall . Members of the public are welcome to attend; please see the agenda for more details.
URL:https://hintswithcanwellparishcouncil.gov.uk/event/parish-council-meeting-9
LOCATION:Hints Village Hall
CATEGORIES:Parish Council Meetings
END:VEVENT
BEGIN:VEVENT
DTSTART;TZID=Europe/London:20260120T190000
DTEND;TZID=Europe/London:20260120T190000
DTSTAMP:20260415T223712
CREATED:20250712T081244Z
LAST-MODIFIED:20260129T184711Z
UID:1088-1768935600-1768935600@hintswithcanwellparishcouncil.gov.uk
SUMMARY:Parish Council Meeting
DESCRIPTION:This meeting will be held at Hints Village Hall . Members of the public are welcome to attend; please see the agenda for more details.
URL:https://hintswithcanwellparishcouncil.gov.uk/event/parish-council-meeting-8
LOCATION:Hints Village Hall
CATEGORIES:Parish Council Meetings
END:VEVENT
BEGIN:VEVENT
DTSTART;TZID=Europe/London:20251118T190000
DTEND;TZID=Europe/London:20251118T190000
DTSTAMP:20260415T223712
CREATED:20250712T081203Z
LAST-MODIFIED:20251123T121829Z
UID:1085-1763492400-1763492400@hintswithcanwellparishcouncil.gov.uk
SUMMARY:Parish Council Meeting
DESCRIPTION:This meeting will be held at Hints Village Hall . Members of the public are welcome to attend; please see the agenda for more details.
URL:https://hintswithcanwellparishcouncil.gov.uk/event/parish-council-meeting-7
LOCATION:Hints Village Hall
CATEGORIES:Parish Council Meetings
END:VEVENT
BEGIN:VEVENT
DTSTART;TZID=Europe/London:20250916T190000
DTEND;TZID=Europe/London:20250916T190000
DTSTAMP:20260415T223712
CREATED:20250712T081126Z
LAST-MODIFIED:20251018T131244Z
UID:1082-1758049200-1758049200@hintswithcanwellparishcouncil.gov.uk
SUMMARY:Parish Council Meeting
DESCRIPTION:This meeting will be held at Hints Village Hall . Members of the public are welcome to attend; please see the agenda for more details.
URL:https://hintswithcanwellparishcouncil.gov.uk/event/parish-council-meeting-6
LOCATION:Hints Village Hall
CATEGORIES:Parish Council Meetings
END:VEVENT
BEGIN:VEVENT
DTSTART;TZID=Europe/London:20250708T193000
DTEND;TZID=Europe/London:20250708T193000
DTSTAMP:20260415T223712
CREATED:20250630T182907Z
LAST-MODIFIED:20250712T081044Z
UID:1067-1752003000-1752003000@hintswithcanwellparishcouncil.gov.uk
SUMMARY:Parish Council Meeting
DESCRIPTION:This meeting will be held at Hints Village Hall . Members of the public are welcome to attend; please see the agenda for more details.
URL:https://hintswithcanwellparishcouncil.gov.uk/event/parish-council-meeting-5
LOCATION:Hints Village Hall
CATEGORIES:Parish Council Meetings
END:VEVENT
BEGIN:VEVENT
DTSTART;TZID=Europe/London:20250513T191500
DTEND;TZID=Europe/London:20250513T191500
DTSTAMP:20260415T223712
CREATED:20250504T130552Z
LAST-MODIFIED:20250712T081012Z
UID:1026-1747163700-1747163700@hintswithcanwellparishcouncil.gov.uk
SUMMARY:Annual Parish Council Meeting
DESCRIPTION:This meeting will be held at Hints Village Hall . Members of the public are welcome to attend; please see the agenda for more details.
URL:https://hintswithcanwellparishcouncil.gov.uk/event/annual-parish-council-meeting
LOCATION:Hints Village Hall
CATEGORIES:Parish Council Meetings
END:VEVENT
BEGIN:VEVENT
DTSTART;TZID=Europe/London:20250513T190000
DTEND;TZID=Europe/London:20250513T190000
DTSTAMP:20260415T223712
CREATED:20250504T122903Z
LAST-MODIFIED:20250706T152852Z
UID:1021-1747162800-1747162800@hintswithcanwellparishcouncil.gov.uk
SUMMARY:Annual Parish Assembly
DESCRIPTION:This meeting will be held at Hints Village Hall . Members of the public are welcome to attend; please see the agenda for more details.
URL:https://hintswithcanwellparishcouncil.gov.uk/event/annual-parish-assembly
LOCATION:Hints Village Hall
CATEGORIES:Parish Council Meetings
END:VEVENT
BEGIN:VEVENT
DTSTART;TZID=Europe/London:20250311T193000
DTEND;TZID=Europe/London:20250311T193000
DTSTAMP:20260415T223712
CREATED:20250301T092911Z
LAST-MODIFIED:20250316T131707Z
UID:949-1741721400-1741721400@hintswithcanwellparishcouncil.gov.uk
SUMMARY:Parish Council Meeting
DESCRIPTION:This meeting will be held at Hints Village Hall . Members of the public are welcome to attend; please see the agenda for more details.
URL:https://hintswithcanwellparishcouncil.gov.uk/event/parish-council-meeting-4
LOCATION:Hints Village Hall
CATEGORIES:Parish Council Meetings
END:VEVENT
BEGIN:VEVENT
DTSTART;TZID=Europe/London:20250121T193000
DTEND;TZID=Europe/London:20250121T193000
DTSTAMP:20260415T223712
CREATED:20250114T165551Z
LAST-MODIFIED:20250301T092829Z
UID:875-1737487800-1737487800@hintswithcanwellparishcouncil.gov.uk
SUMMARY:Extraordinary Parish Council Meeting
DESCRIPTION:This meeting will be held at Hints Village Hall . Members of the public are welcome to attend; please see the agenda for more details.
URL:https://hintswithcanwellparishcouncil.gov.uk/event/extraordinary-parish-council-meeting
LOCATION:Hints Village Hall
CATEGORIES:Parish Council Meetings
END:VEVENT
BEGIN:VEVENT
DTSTART;TZID=Europe/London:20250114T193000
DTEND;TZID=Europe/London:20250114T193000
DTSTAMP:20260415T223712
CREATED:20250104T145540Z
LAST-MODIFIED:20250114T165510Z
UID:850-1736883000-1736883000@hintswithcanwellparishcouncil.gov.uk
SUMMARY:CANCELLED Parish Council Meeting
DESCRIPTION:This meeting will be held at Hints Village Hall . Members of the public are welcome to attend; please see the agenda for more details.
URL:https://hintswithcanwellparishcouncil.gov.uk/event/parish-council-meeting-3
LOCATION:Hints Village Hall
CATEGORIES:Parish Council Meetings
END:VEVENT
BEGIN:VEVENT
DTSTART;TZID=Europe/London:20241112T193000
DTEND;TZID=Europe/London:20241112T193000
DTSTAMP:20260415T223712
CREATED:20241002T182939Z
LAST-MODIFIED:20241208T120945Z
UID:662-1731439800-1731439800@hintswithcanwellparishcouncil.gov.uk
SUMMARY:Parish Council Meeting
DESCRIPTION:This meeting will be held at Hints Village Hall . Members of the public are welcome to attend; please see the agenda for more details.
URL:https://hintswithcanwellparishcouncil.gov.uk/event/parish-council-meeting
LOCATION:Hints Village Hall
CATEGORIES:Parish Council Meetings
END:VEVENT
BEGIN:VEVENT
DTSTART;TZID=Europe/London:20240910T193000
DTEND;TZID=Europe/London:20240910T193000
DTSTAMP:20260415T223712
CREATED:20241027T084054Z
LAST-MODIFIED:20241027T084054Z
UID:717-1725996600-1725996600@hintswithcanwellparishcouncil.gov.uk
SUMMARY:Parish Council Meeting
DESCRIPTION:This meeting will be held at Hints Village Hall . Members of the public are welcome to attend; please see the agenda for more details.
URL:https://hintswithcanwellparishcouncil.gov.uk/event/parish-council-meeting-2
LOCATION:Hints Village Hall
CATEGORIES:Parish Council Meetings
END:VEVENT
END:VCALENDAR